BEGIN:VCALENDAR
VERSION:2.0
BEGIN:VEVENT
URL:https://www.dailyinfo.co.uk/events/293620/territory-jurisdiction-and-debates-on-the-origins-of-international-law
DTSTART;VALUE=DATE:20260521
DESCRIPTION:Territory, jurisdiction, and debates on the origins of international law\n\n\nTalk followed by questions and discussion. All welcome. 7.30–9.00pm Free
SUMMARY;LANGUAGE=en-gb:Territory, jurisdiction, and debates on the origins of international law
LOCATION:Wesley Memorial Church, New Inn Hall Street, Oxford OX1 2DH
END:VEVENT
END:VCALENDAR
