BEGIN:VCALENDAR
VERSION:2.0
BEGIN:VEVENT
URL:https://www.dailyinfo.co.uk/events/289578/eric-rushton-innkeeper
DTSTART;VALUE=DATE:20260522
DESCRIPTION:Eric Rushton: Innkeeper\n\n\nStand-up comedy Doors open 6.45pm, last entry 7.15pm £13
SUMMARY;LANGUAGE=en-gb:Eric Rushton: Innkeeper
LOCATION:The Glee Club, The Bullingdon, 162 Cowley Rd, Oxford, OX4 1UE OX4 1UE
END:VEVENT
END:VCALENDAR
