BEGIN:VCALENDAR
VERSION:2.0
BEGIN:VEVENT
URL:https://www.dailyinfo.co.uk/events/293800/rhapsody-of-a-dream
DTSTART;VALUE=DATE:20260522
DESCRIPTION:Rhapsody of a Dream\n\n\nConcert blending immersive music and visuals to recreate neuroscience of sleep as a shared journey 8.00-10.15pm £15/£10
SUMMARY;LANGUAGE=en-gb:Rhapsody of a Dream
LOCATION:North Wall Arts Centre, South Parade, Oxford OX2 7NN
END:VEVENT
END:VCALENDAR
