BEGIN:VCALENDAR
VERSION:2.0
BEGIN:VEVENT
URL:https://www.dailyinfo.co.uk/events/293272/once-upon-a-unicorn-and-dragon-2026
DTSTART;VALUE=DATE:20260523
DESCRIPTION:Once Upon a Unicorn and Dragon 2026\n\n\nStep into a world of fantasy at Fairytale Farm from 23rd to 31st May 2026. 10am-5pm £12.59
SUMMARY;LANGUAGE=en-gb:Once Upon a Unicorn and Dragon 2026
LOCATION:Fairytale Farm, Southcombe, Chipping Norton, Oxfordshire OX7 5QH
END:VEVENT
END:VCALENDAR
