BEGIN:VCALENDAR
VERSION:2.0
BEGIN:VEVENT
URL:https://www.dailyinfo.co.uk/events/293477/franklin-s-tower-mark-atherton-and-friends-firegazer-scott-gordon-osprey-phil-and-sue-chris-stringer
DTSTART;VALUE=DATE:20260523
DESCRIPTION:Franklin’s Tower, Mark Atherton and Friends, Firegazer, Scott Gordon, Osprey, Phil and Sue, Chris Stringer\n\n\nFamily-friendly, free community music session 6.30pm Free
SUMMARY;LANGUAGE=en-gb:Franklin’s Tower, Mark Atherton and Friends, Firegazer, Scott Gordon, Osprey, Phil and Sue, Chris Stringer
LOCATION:Donnington Community Centre, Townsend Square, Oxford OX4 4BS
END:VEVENT
END:VCALENDAR
