BEGIN:VCALENDAR
VERSION:2.0
BEGIN:VEVENT
URL:https://www.dailyinfo.co.uk/events/293170/concert-wind-quintet-colours-and-character
DTSTART;VALUE=DATE:20260524
DESCRIPTION:Concert: Wind quintet colours and character\n\n\nAn Iffley Music Society concert featuring music by Ravel, Puccini and others 3-4.30 pm £20 adult / £10 - child/student
SUMMARY;LANGUAGE=en-gb:Concert: Wind quintet colours and character
LOCATION:Iffley Church Hall, 101 Church Way, Iffley OX4 4EG
END:VEVENT
END:VCALENDAR
