BEGIN:VCALENDAR
VERSION:2.0
BEGIN:VEVENT
URL:https://www.dailyinfo.co.uk/events/293773/st-johns-literary-festival
DTSTART;VALUE=DATE:20260524
DESCRIPTION:St John's Literary Festival\n\n\nCommunity literary festival in support of the National Year of Reading offering a range of free activities for children – including puppet theatre 10.00am-5.00pm £0.00
SUMMARY;LANGUAGE=en-gb:St John's Literary Festival
LOCATION:St John's College, St Giles, Oxford OX1 3JP
END:VEVENT
END:VCALENDAR
