BEGIN:VCALENDAR
VERSION:2.0
BEGIN:VEVENT
URL:https://www.dailyinfo.co.uk/events/293092/doing-things-with-books-a-conversation-with-william-kentridge
DTSTART;VALUE=DATE:20260526
DESCRIPTION:Doing Things with Books: A conversation with William Kentridge\n\n\nWilliam Kentridge discusses the enduring role of the book in his artwork. 5-6pm £3/£0 conc
SUMMARY;LANGUAGE=en-gb:Doing Things with Books: A conversation with William Kentridge
LOCATION:Schwarzman Centre for the Humanities, Radcliffe Observatory Quarter, Woodstock Road, Oxford OX2 6GG
END:VEVENT
END:VCALENDAR
