BEGIN:VCALENDAR
VERSION:2.0
BEGIN:VEVENT
URL:https://www.dailyinfo.co.uk/events/293631/free-violin-and-piano-recital-elizaveta-saul-and-ayane-nakajima
DTSTART;VALUE=DATE:20260526
DESCRIPTION:Free Violin and Piano Recital: Elizaveta Saul and Ayane Nakajima\n\n\nAward-winning musicians Elizaveta Saul and Ayane Nakajima perform the Franck Violin Sonata. 1.10-2.00pm Free
SUMMARY;LANGUAGE=en-gb:Free Violin and Piano Recital: Elizaveta Saul and Ayane Nakajima
LOCATION:Wesley Memorial Church, New Inn Hall Street, Oxford OX1 2DH
END:VEVENT
END:VCALENDAR
