BEGIN:VCALENDAR
VERSION:2.0
BEGIN:VEVENT
URL:https://www.dailyinfo.co.uk/events/289137/holy-communion-bcp
DTSTART;VALUE=DATE:20260527
DESCRIPTION:Holy Communion (BCP)\n\n\nJoin us at Christ Church Cathedral for a service of Holy Communion said from the BCP. 1:05-1:35pm Free
SUMMARY;LANGUAGE=en-gb:Holy Communion (BCP)
LOCATION:Christ Church Cathedral, Christ Church, St Aldate's, Oxford OX1 1DP
END:VEVENT
END:VCALENDAR
