BEGIN:VCALENDAR
VERSION:2.0
BEGIN:VEVENT
URL:https://www.dailyinfo.co.uk/events/293621/viktor-shklovsky-1893-1984-and-the-theory-of-prose
DTSTART;VALUE=DATE:20260528
DESCRIPTION:Viktor Shklovsky (1893–1984) and the theory of prose\n\n\nTalk followed by questions and discussion. All welcome. 7.30–9.00pm Free
SUMMARY;LANGUAGE=en-gb:Viktor Shklovsky (1893–1984) and the theory of prose
LOCATION:Wesley Memorial Church, New Inn Hall Street, Oxford OX1 2DH
END:VEVENT
END:VCALENDAR
