BEGIN:VCALENDAR
VERSION:2.0
BEGIN:VEVENT
URL:https://www.dailyinfo.co.uk/events/291024/suzan-lori-parks-sally-and-tom
DTSTART;VALUE=DATE:20260529
DESCRIPTION:Suzan-Lori Parks: Sally & Tom\n\n\nA rehearsed reading of Sally & Tom by Pulitzer Prize–winning playwright Suzan-Lori Parks. 7pm Ticket prices vary
SUMMARY;LANGUAGE=en-gb:Suzan-Lori Parks: Sally & Tom
LOCATION:Schwarzman Centre for the Humanities, Radcliffe Observatory Quarter, Woodstock Road, Oxford OX2 6GG
END:VEVENT
END:VCALENDAR
