BEGIN:VCALENDAR
VERSION:2.0
BEGIN:VEVENT
URL:https://www.dailyinfo.co.uk/events/293164/justyna-zanko-violin-recital
DTSTART;VALUE=DATE:20260529
DESCRIPTION:Justyna Zanko Violin Recital\n\n\nInternationally celebrated Polish violinist Justyna Zanko returns. 6pm Recommended donation £10
SUMMARY;LANGUAGE=en-gb:Justyna Zanko Violin Recital
LOCATION:St Mary and St John Church, 271 Cowley Road, (corner of Cowley Rd and Leopold St), Oxford OX4 2AJ
END:VEVENT
END:VCALENDAR
