BEGIN:VCALENDAR
VERSION:2.0
BEGIN:VEVENT
URL:https://www.dailyinfo.co.uk/events/289003/bloodstock-metal-2-the-masses
DTSTART;VALUE=DATE:20260530
DESCRIPTION:Bloodstock - Metal 2 The Masses\n\n\nRock and metal battle of the bands: quarter final 3 7.30pm £8
SUMMARY;LANGUAGE=en-gb:Bloodstock - Metal 2 The Masses
LOCATION:The Jericho Tavern, 56 Walton Street, Oxford OX2 6AE
END:VEVENT
END:VCALENDAR
