BEGIN:VCALENDAR
VERSION:2.0
BEGIN:VEVENT
URL:https://www.dailyinfo.co.uk/events/289622/life-drawing-jericho-bi-weekly-occasional-tuition
DTSTART;VALUE=DATE:20260530
DESCRIPTION:Life Drawing Jericho - Bi Weekly - Occasional Tuition\n\n\nLife drawing in the heart of Jericho - experienced m/f models, easels & materials provided 11am - 1pm £13
SUMMARY;LANGUAGE=en-gb:Life Drawing Jericho - Bi Weekly - Occasional Tuition
LOCATION:Jericho Community Centre, 33a Canal Street, Oxford OX2 6BQ
END:VEVENT
END:VCALENDAR
