BEGIN:VCALENDAR
VERSION:2.0
BEGIN:VEVENT
URL:https://www.dailyinfo.co.uk/events/291204/the-jeff-beck-experience
DTSTART;VALUE=DATE:20260530
DESCRIPTION:The Jeff Beck Experience\n\n\nCelebration of British guitar legend 6.30pm £30.65
SUMMARY;LANGUAGE=en-gb:The Jeff Beck Experience
LOCATION:O2 Academy Oxford, 190 Cowley Road, Oxford OX4 1UE
END:VEVENT
END:VCALENDAR
