BEGIN:VCALENDAR
VERSION:2.0
BEGIN:VEVENT
URL:https://www.dailyinfo.co.uk/events/291205/my-leonard-cohen
DTSTART;VALUE=DATE:20260530
DESCRIPTION:My Leonard Cohen\n\n\nStewart D’Arrietta and his band with celebration of Canadian singer, songwriter and poet 6.30pm £35.80
SUMMARY;LANGUAGE=en-gb:My Leonard Cohen
LOCATION:O2 Academy Oxford, 190 Cowley Road, Oxford OX4 1UE
END:VEVENT
END:VCALENDAR
