BEGIN:VCALENDAR
VERSION:2.0
BEGIN:VEVENT
URL:https://www.dailyinfo.co.uk/events/291207/untouchable-young-linx-allan-btando-sovereign-syndicate
DTSTART;VALUE=DATE:20260530
DESCRIPTION:Untouchable, Young Linx, Allan Btando, Sovereign Syndicate\n\n\nReggae, dancehall & afrobeats 11.00pm-3.00am £11.25
SUMMARY;LANGUAGE=en-gb:Untouchable, Young Linx, Allan Btando, Sovereign Syndicate
LOCATION:O2 Academy Oxford, 190 Cowley Road, Oxford OX4 1UE
END:VEVENT
END:VCALENDAR
