BEGIN:VCALENDAR
VERSION:2.0
BEGIN:VEVENT
URL:https://www.dailyinfo.co.uk/events/293679/yoga-workshop-exploring-improving-the-range-of-movement-in-shoulders-and-hips
DTSTART;VALUE=DATE:20260530
DESCRIPTION:Yoga Workshop Exploring/Improving the Range of Movement in Shoulders and Hips\n\n\nThese joints have a wide range of motion, but can become stuck if not exercised in all directions. 10.00am-1.00pm £40/£35/£30
SUMMARY;LANGUAGE=en-gb:Yoga Workshop Exploring/Improving the Range of Movement in Shoulders and Hips
LOCATION:Asian Cultural Centre, Manzil Way, Oxford OX4 1GH
END:VEVENT
END:VCALENDAR
