BEGIN:VCALENDAR
VERSION:2.0
BEGIN:VEVENT
URL:https://www.dailyinfo.co.uk/events/289138/said-matins-bcp
DTSTART;VALUE=DATE:20260531
DESCRIPTION:Said Matins (BCP)\n\n\nStart the day with a traditional service of Said Matins from the Book of Common Prayer. 7:35-8:00am Free
SUMMARY;LANGUAGE=en-gb:Said Matins (BCP)
LOCATION:Christ Church Cathedral, Christ Church, St Aldate's, Oxford OX1 1DP
END:VEVENT
END:VCALENDAR
