BEGIN:VCALENDAR
VERSION:2.0
BEGIN:VEVENT
URL:https://www.dailyinfo.co.uk/events/293457/may-song-in-bartlemas
DTSTART;VALUE=DATE:20260531
DESCRIPTION:May Song in Bartlemas\n\n\nMedieval music, poetry and readings celebrating Bartlemas Chapel in its 900th year 4.00-6.00pm £5
SUMMARY;LANGUAGE=en-gb:May Song in Bartlemas
LOCATION:St Bartholomew's Chapel (Bartlemas Chapel), Off Cowley Road (in between Evelyn Court and Bartlemas Close), Oxford OX4 2AJ
END:VEVENT
END:VCALENDAR
