BEGIN:VCALENDAR
VERSION:2.0
BEGIN:VEVENT
URL:https://www.dailyinfo.co.uk/events/293501/earth-environmentalism-and-the-natural-world
DTSTART;VALUE=DATE:20260601
DESCRIPTION:EARTH: Environmentalism and the Natural World\n\n\nCome with us on a geographical journey around the globe, encountering a diverse range of life in an equally diverse range of books. 9am - 5pm Free (email to book a viewing)
SUMMARY;LANGUAGE=en-gb:EARTH: Environmentalism and the Natural World
LOCATION:New College, Holywell Street, Oxford OX1 3BN
END:VEVENT
END:VCALENDAR
