BEGIN:VCALENDAR
VERSION:2.0
BEGIN:VEVENT
URL:https://www.dailyinfo.co.uk/events/293634/free-early-music-recital-timothy-lin-viol
DTSTART;VALUE=DATE:20260602
DESCRIPTION:Free Early Music Recital: Timothy Lin (viol)\n\n\nViol virtuoso Timothy Lin interprets works by Schenck, Telemann, and Abel. 1.10-2.00pm Free
SUMMARY;LANGUAGE=en-gb:Free Early Music Recital: Timothy Lin (viol)
LOCATION:Wesley Memorial Church, New Inn Hall Street, Oxford OX1 2DH
END:VEVENT
END:VCALENDAR
