BEGIN:VCALENDAR
VERSION:2.0
BEGIN:VEVENT
URL:https://www.dailyinfo.co.uk/events/292948/open-mic-night
DTSTART;VALUE=DATE:20260603
DESCRIPTION:Open Mic Night\n\n\nYour chance to be on stage and perform - or join us to listen to talented musicians! from 7pm free
SUMMARY;LANGUAGE=en-gb:Open Mic Night
LOCATION:JoJo's Cocktail & Pizza Bar, 96 Cowley Road, Oxford OX4 1JE
END:VEVENT
END:VCALENDAR
