BEGIN:VCALENDAR
VERSION:2.0
BEGIN:VEVENT
URL:https://www.dailyinfo.co.uk/events/293577/organ-recital-colin-walsh
DTSTART;VALUE=DATE:20260604
DESCRIPTION:Organ Recital - Colin Walsh\n\n\nOrgan recital given by Colin Walsh on the Dobson organ 1.15pm Free
SUMMARY;LANGUAGE=en-gb:Organ Recital - Colin Walsh
LOCATION:Merton College Chapel, Merton Street, Oxford OX1 4JD
END:VEVENT
END:VCALENDAR
