BEGIN:VCALENDAR
VERSION:2.0
BEGIN:VEVENT
URL:https://www.dailyinfo.co.uk/events/293622/the-american-novelist-ursula-k-le-guin
DTSTART;VALUE=DATE:20260604
DESCRIPTION:The American novelist Ursula K. Le Guin\n\n\nTalk followed by questions and discussion. All welcome. 7.30–9.00pm Free
SUMMARY;LANGUAGE=en-gb:The American novelist Ursula K. Le Guin
LOCATION:Wesley Memorial Church, New Inn Hall Street, Oxford OX1 2DH
END:VEVENT
END:VCALENDAR
