BEGIN:VCALENDAR
VERSION:2.0
BEGIN:VEVENT
URL:https://www.dailyinfo.co.uk/events/293697/the-silent-songs-of-josefine
DTSTART;VALUE=DATE:20260604
DESCRIPTION:The Silent Songs of Josefine\n\n\nMusical performance and roundtable discussion of Kafka-inspired original composition by Can Bilir. 4.00-5.30pm Free
SUMMARY;LANGUAGE=en-gb:The Silent Songs of Josefine
LOCATION:Holywell Music Room, Holywell Street, Oxford OX1 3SD
END:VEVENT
END:VCALENDAR
