BEGIN:VCALENDAR
VERSION:2.0
BEGIN:VEVENT
URL:https://www.dailyinfo.co.uk/events/291546/abba-live-again-is-there-a-soul-out-there
DTSTART;VALUE=DATE:20260605
DESCRIPTION:ABBA - Live Again: Is There a Soul Out There\n\n\nABBA tribute act 7.00pm £10
SUMMARY;LANGUAGE=en-gb:ABBA - Live Again: Is There a Soul Out There
LOCATION:The Bullingdon, 162 Cowley Road, Oxford OX4 1UE
END:VEVENT
END:VCALENDAR
