BEGIN:VCALENDAR
VERSION:2.0
BEGIN:VEVENT
URL:https://www.dailyinfo.co.uk/events/291208/daft-funk-anu
DTSTART;VALUE=DATE:20260606
DESCRIPTION:Daft Funk, ANU\n\n\nDaft Punk tribute act 6.30pm £21.65
SUMMARY;LANGUAGE=en-gb:Daft Funk, ANU
LOCATION:O2 Academy Oxford, 190 Cowley Road, Oxford OX4 1UE
END:VEVENT
END:VCALENDAR
