BEGIN:VCALENDAR
VERSION:2.0
BEGIN:VEVENT
URL:https://www.dailyinfo.co.uk/events/287285/oxford-and-world-war-two
DTSTART;VALUE=DATE:20260607
DESCRIPTION:Oxford and World War Two\n\n\nOxford's WWII history is little known but quite extraordinary.?The city and the University both had key roles in helping Britain to win the war, though much of what they did was secret. This walking tour examines Oxford's contribution to winning the war.Department for Continuing Educationppdayweek@conted.ox.ac.uk+44 (0)1865 270368 10.15am - 1.45pm £60.00
SUMMARY;LANGUAGE=en-gb:Oxford and World War Two
LOCATION:Oxford University Dept. of Continuing Education - Rewley House, Dept. of Continuing Education, 1 Wellington Square, Oxford OX1 2JA
END:VEVENT
END:VCALENDAR
