BEGIN:VCALENDAR
VERSION:2.0
BEGIN:VEVENT
URL:https://www.dailyinfo.co.uk/events/287757/southern-crane-kung-fu-classes
DTSTART;VALUE=DATE:20260608
DESCRIPTION:Southern Crane Kung Fu Classes\n\n\nLearn to move with grace and strike with power, whilst exploring daoist philosophy. Sparring too! 7:30 to 8:30 £10/£7
SUMMARY;LANGUAGE=en-gb:Southern Crane Kung Fu Classes
LOCATION:Asian Cultural Centre, Manzil Way, Oxford OX4 1GH
END:VEVENT
END:VCALENDAR
