BEGIN:VCALENDAR
VERSION:2.0
BEGIN:VEVENT
URL:https://www.dailyinfo.co.uk/events/293635/free-piano-recital-louis-victor-bak
DTSTART;VALUE=DATE:20260609
DESCRIPTION:Free Piano Recital: Louis-Victor Bak\n\n\nAward-winning French pianist Louis-Victor Bak interprets works by Gabriel Fauré and Henri Dutilleux. 1.10-2.00pm Free
SUMMARY;LANGUAGE=en-gb:Free Piano Recital: Louis-Victor Bak
LOCATION:Wesley Memorial Church, New Inn Hall Street, Oxford OX1 2DH
END:VEVENT
END:VCALENDAR
