BEGIN:VCALENDAR
VERSION:2.0
BEGIN:VEVENT
URL:https://www.dailyinfo.co.uk/events/291196/rose-care
DTSTART;VALUE=DATE:20260611
DESCRIPTION:Rose Care\n\n\nThis course gives expert advice on how to choose suitable roses for your garden; how and when to plant them so they establish successfully; and the necessary ongoing maintenance including feeding, deadheading and pest and disease control 11am - 12.30pm £30
SUMMARY;LANGUAGE=en-gb:Rose Care
LOCATION:University of Oxford Botanic Garden, Rose Lane OX1 4AZ
END:VEVENT
END:VCALENDAR
