BEGIN:VCALENDAR
VERSION:2.0
BEGIN:VEVENT
URL:https://www.dailyinfo.co.uk/events/293578/organ-recital-sophia-ostling
DTSTART;VALUE=DATE:20260611
DESCRIPTION:Organ Recital - Sophia Östling\n\n\nOrgan recital given by Sophia Östling on the Dobson organ 1.15pm Free
SUMMARY;LANGUAGE=en-gb:Organ Recital - Sophia Östling
LOCATION:Merton College Chapel, Merton Street, Oxford OX1 4JD
END:VEVENT
END:VCALENDAR
