BEGIN:VCALENDAR
VERSION:2.0
BEGIN:VEVENT
URL:https://www.dailyinfo.co.uk/events/293624/prospects-for-pasokification-in-2026
DTSTART;VALUE=DATE:20260611
DESCRIPTION:Prospects for Pasokification in 2026\n\n\nTalk followed by questions and discussion. All welcome. 7.30–9.00pm Free
SUMMARY;LANGUAGE=en-gb:Prospects for Pasokification in 2026
LOCATION:Wesley Memorial Church, New Inn Hall Street, Oxford OX1 2DH
END:VEVENT
END:VCALENDAR
