BEGIN:VCALENDAR
VERSION:2.0
BEGIN:VEVENT
URL:https://www.dailyinfo.co.uk/events/291209/the-tumbling-paddies
DTSTART;VALUE=DATE:20260612
DESCRIPTION:The Tumbling Paddies\n\n\nTrad. Irish folk band 6.30pm £29.90
SUMMARY;LANGUAGE=en-gb:The Tumbling Paddies
LOCATION:O2 Academy Oxford, 190 Cowley Road, Oxford OX4 1UE
END:VEVENT
END:VCALENDAR
