BEGIN:VCALENDAR
VERSION:2.0
BEGIN:VEVENT
URL:https://www.dailyinfo.co.uk/events/291949/exploring-cognition
DTSTART;VALUE=DATE:20260612
DESCRIPTION:Exploring Cognition\n\n\nWe will take a brief look at the workings of the brain, and how psychologists describe the functions of attention, perception and memory. Explore how these processes can work to fool us, and what we have learned from dysfunction 10am - 5pm £130.00
SUMMARY;LANGUAGE=en-gb:Exploring Cognition
LOCATION:Oxford University Dept. of Continuing Education - Ewert House, Ewert Place, Banbury Road, Summertown, Oxford OX2 7DD
END:VEVENT
END:VCALENDAR
