BEGIN:VCALENDAR
VERSION:2.0
BEGIN:VEVENT
URL:https://www.dailyinfo.co.uk/events/290736/blest-pair-of-sirens
DTSTART;VALUE=DATE:20260613
DESCRIPTION:Blest Pair of Sirens\n\n\nAntiphon presents an evening of sparkling choral music from across the British Isles. 7-8pm £15 - General Admission; £10 - Student Price
SUMMARY;LANGUAGE=en-gb:Blest Pair of Sirens
LOCATION:St Mary Magdalen Church, Oxford, 15 Magdalen Street, Oxford OX1 3AE
END:VEVENT
END:VCALENDAR
