BEGIN:VCALENDAR
VERSION:2.0
BEGIN:VEVENT
URL:https://www.dailyinfo.co.uk/events/293133/folk-for-ms-ceilidh-barn-dance
DTSTART;VALUE=DATE:20260613
DESCRIPTION:Folk for MS Ceilidh (Barn Dance)!\n\n\nMelobo & caller Charlotte Rich-Griffin; half time spot from Rose Hips Belly Dancers. Licensed bar. 8pm - 11.30pm £10 adults; £5 u16s
SUMMARY;LANGUAGE=en-gb:Folk for MS Ceilidh (Barn Dance)!
LOCATION:Grove Village Hall, Main Street, Grove, Wantage OX12 7JY
END:VEVENT
END:VCALENDAR
