BEGIN:VCALENDAR
VERSION:2.0
BEGIN:VEVENT
URL:https://www.dailyinfo.co.uk/events/293134/singing-for-summer-an-evening-of-choral-music-with-bob-chilcott
DTSTART;VALUE=DATE:20260613
DESCRIPTION:Singing for Summer: an evening of choral music with Bob Chilcott\n\n\nA radiant summer concert exploring contemporary choral music from across the globe 7:30[m £15 (£12 concessions) under 16s free
SUMMARY;LANGUAGE=en-gb:Singing for Summer: an evening of choral music with Bob Chilcott
LOCATION:St Margaret's Church, St Margaret's Road, Oxford OX2 6RX
END:VEVENT
END:VCALENDAR
