BEGIN:VCALENDAR
VERSION:2.0
BEGIN:VEVENT
URL:https://www.dailyinfo.co.uk/events/293468/printmakers-council-green-and-pleasant-land
DTSTART;VALUE=DATE:20260613
DESCRIPTION:Printmakers Council: Green and Pleasant Land\n\n\nFounded in 1965, the Printmakers Council aims to promote the art of printmaking. 10.00am-4.00pm Free
SUMMARY;LANGUAGE=en-gb:Printmakers Council: Green and Pleasant Land
LOCATION:North Wall Arts Centre, South Parade, Oxford OX2 7NN
END:VEVENT
END:VCALENDAR
