BEGIN:VCALENDAR
VERSION:2.0
BEGIN:VEVENT
URL:https://www.dailyinfo.co.uk/events/293420/scotland-vs-haiti
DTSTART;VALUE=DATE:20260614
DESCRIPTION:Scotland vs Haiti\n\n\nLive from Gillette Stadium, Boston 2.00am Free
SUMMARY;LANGUAGE=en-gb:Scotland vs Haiti
LOCATION:The Cape of Good Hope, 1 Iffley Road, Oxford OX4 1EA
END:VEVENT
END:VCALENDAR
