BEGIN:VCALENDAR
VERSION:2.0
BEGIN:VEVENT
URL:https://www.dailyinfo.co.uk/events/293801/a-thousand-days-of-awkwardness-improv-comedy-from-the-awkward-actors
DTSTART;VALUE=DATE:20260614
DESCRIPTION:A Thousand Days of Awkwardness: Improv Comedy from the Awkward Actors\n\n\nCelebrate the Awkward Actors 3rd bday! Improvised sketches, stories and songs from your suggestions. 7.30pm Standard £15 | Pay more £20 | Pay less £10
SUMMARY;LANGUAGE=en-gb:A Thousand Days of Awkwardness: Improv Comedy from the Awkward Actors
LOCATION:The Old Fire Station, 40 George Street, Oxford OX1 2AQ
END:VEVENT
END:VCALENDAR
