BEGIN:VCALENDAR
VERSION:2.0
BEGIN:VEVENT
URL:https://www.dailyinfo.co.uk/events/293507/little-birds-music
DTSTART;VALUE=DATE:20260615
DESCRIPTION:Little Birds Music\n\n\nMusic and story time session for 0-5 year olds and their caregivers. 10.30-11.15am £9
SUMMARY;LANGUAGE=en-gb:Little Birds Music
LOCATION:Ark T Centre, Ark-T @ The Venue, 242B Barns Road, Oxford OX4 3RQ
END:VEVENT
END:VCALENDAR
