BEGIN:VCALENDAR
VERSION:2.0
BEGIN:VEVENT
URL:https://www.dailyinfo.co.uk/events/291025/sphinx-organization
DTSTART;VALUE=DATE:20260616
DESCRIPTION:Sphinx Organization\n\n\nA celebration of American music in all its depth and diversity. 17:00 Ticket prices vary
SUMMARY;LANGUAGE=en-gb:Sphinx Organization
LOCATION:Schwarzman Centre for the Humanities, Radcliffe Observatory Quarter, Woodstock Road, Oxford OX2 6GG
END:VEVENT
END:VCALENDAR
