BEGIN:VCALENDAR
VERSION:2.0
BEGIN:VEVENT
URL:https://www.dailyinfo.co.uk/events/293637/free-classical-guitar-recital-luke-tyrrell
DTSTART;VALUE=DATE:20260616
DESCRIPTION:Free Classical Guitar Recital: Luke Tyrrell\n\n\nBritish guitarist Luke Tyrrell interprets an evocative programme of Spanish works for solo guitar. 1.10-2.00pm Free
SUMMARY;LANGUAGE=en-gb:Free Classical Guitar Recital: Luke Tyrrell
LOCATION:Wesley Memorial Church, New Inn Hall Street, Oxford OX1 2DH
END:VEVENT
END:VCALENDAR
