BEGIN:VCALENDAR
VERSION:2.0
BEGIN:VEVENT
URL:https://www.dailyinfo.co.uk/events/293471/st-edward-s-school-leavers-exhibition
DTSTART;VALUE=DATE:20260617
DESCRIPTION:St Edward’s School: Leavers’ Exhibition\n\n\nThe exhibition celebrates the work of St Edward’s Upper Sixth pupils. 10.00am-4.00pm Free
SUMMARY;LANGUAGE=en-gb:St Edward’s School: Leavers’ Exhibition
LOCATION:North Wall Arts Centre, South Parade, Oxford OX2 7NN
END:VEVENT
END:VCALENDAR
