BEGIN:VCALENDAR
VERSION:2.0
BEGIN:VEVENT
URL:https://www.dailyinfo.co.uk/events/293579/organ-recital-eric-choate
DTSTART;VALUE=DATE:20260618
DESCRIPTION:Organ Recital - Eric Choate\n\n\nOrgan recital given by Eric Choate on the Dobson organ 1.15pm Free
SUMMARY;LANGUAGE=en-gb:Organ Recital - Eric Choate
LOCATION:Merton College Chapel, Merton Street, Oxford OX1 4JD
END:VEVENT
END:VCALENDAR
