BEGIN:VCALENDAR
VERSION:2.0
BEGIN:VEVENT
URL:https://www.dailyinfo.co.uk/events/293625/symbolism-in-the-folklore-of-the-summer-solstice
DTSTART;VALUE=DATE:20260618
DESCRIPTION:Symbolism in the folklore of the summer solstice\n\n\nTalk followed by questions and discussion. All welcome. 7.30–9.00pm Free
SUMMARY;LANGUAGE=en-gb:Symbolism in the folklore of the summer solstice
LOCATION:Wesley Memorial Church, New Inn Hall Street, Oxford OX1 2DH
END:VEVENT
END:VCALENDAR
