BEGIN:VCALENDAR
VERSION:2.0
BEGIN:VEVENT
URL:https://www.dailyinfo.co.uk/events/288064/aurora-orchestra-mozart-from-memory
DTSTART;VALUE=DATE:20260619
DESCRIPTION:Aurora Orchestra: Mozart from Memory\n\n\nTake a trip through this uplifting programme, ending with a high-energy performance of Mozart’s mighty Jupiter Symphony 7pm from £26.95
SUMMARY;LANGUAGE=en-gb:Aurora Orchestra: Mozart from Memory
LOCATION:Schwarzman Centre for the Humanities, Radcliffe Observatory Quarter, Woodstock Road, Oxford OX2 6GG
END:VEVENT
END:VCALENDAR
